Package: Structstrings Version: 1.24.0 Command: /Library/Frameworks/R.framework/Resources/bin/R CMD build --keep-empty-dirs --no-resave-data Structstrings StartedAt: 2025-07-21 23:12:19 -0400 (Mon, 21 Jul 2025) EndedAt: 2025-07-21 23:13:25 -0400 (Mon, 21 Jul 2025) EllapsedTime: 66.9 seconds RetCode: 0 Status: OK PackageFile: Structstrings_1.24.0.tar.gz PackageFileSize: 366.7 KiB