Package: Streamer Version: 1.54.0 Command: /Library/Frameworks/R.framework/Resources/bin/R CMD check --install=check:Streamer.install-out.txt --library=/Library/Frameworks/R.framework/Resources/library --no-vignettes --timings Streamer_1.54.0.tar.gz StartedAt: 2025-05-09 10:28:26 -0400 (Fri, 09 May 2025) EndedAt: 2025-05-09 10:29:48 -0400 (Fri, 09 May 2025) EllapsedTime: 81.9 seconds RetCode: 0 Status: OK CheckDir: Streamer.Rcheck Warnings: 0