Package: Streamer Version: 1.54.0 Command: rm -rf Streamer.buildbin-libdir && mkdir Streamer.buildbin-libdir && /Users/biocbuild/BBS/utils/build-universal.sh Streamer_1.54.0.tar.gz /Library/Frameworks/R.framework/Resources/bin/R Streamer.buildbin-libdir StartedAt: 2025-05-09 13:29:24 -0400 (Fri, 09 May 2025) EndedAt: 2025-05-09 13:29:47 -0400 (Fri, 09 May 2025) EllapsedTime: 23.4 seconds RetCode: 0 Status: OK PackageFile: Streamer_1.54.0.tgz PackageFileSize: 550.4 KiB