Package: Streamer Version: 1.54.0 Command: /Library/Frameworks/R.framework/Resources/bin/R CMD check --install=check:Streamer.install-out.txt --library=/Library/Frameworks/R.framework/Resources/library --no-vignettes --timings Streamer_1.54.0.tar.gz StartedAt: 2025-04-21 23:55:39 -0400 (Mon, 21 Apr 2025) EndedAt: 2025-04-21 23:56:28 -0400 (Mon, 21 Apr 2025) EllapsedTime: 49.5 seconds RetCode: 0 Status: OK CheckDir: Streamer.Rcheck Warnings: 0