Package: Streamer Version: 1.54.0 Command: /home/biocbuild/R/R/bin/R CMD check --install=check:Streamer.install-out.txt --library=/home/biocbuild/R/R/site-library --no-vignettes --timings Streamer_1.54.0.tar.gz StartedAt: 2025-05-09 14:22:52 -0000 (Fri, 09 May 2025) EndedAt: 2025-05-09 14:23:32 -0000 (Fri, 09 May 2025) EllapsedTime: 40.0 seconds RetCode: 0 Status: OK CheckDir: Streamer.Rcheck Warnings: 0