Package: Streamer Version: 1.54.0 Command: rm -rf Streamer.buildbin-libdir && mkdir Streamer.buildbin-libdir && /Users/biocbuild/BBS/utils/build-universal.sh Streamer_1.54.0.tar.gz /Library/Frameworks/R.framework/Resources/bin/R Streamer.buildbin-libdir StartedAt: 2025-04-21 22:54:20 -0400 (Mon, 21 Apr 2025) EndedAt: 2025-04-21 22:54:24 -0400 (Mon, 21 Apr 2025) EllapsedTime: 4.1 seconds RetCode: 0 Status: OK PackageFile: Streamer_1.54.0.tgz PackageFileSize: 551.4 KiB