Package: StabMap Version: 1.0.0 Command: /home/biocbuild/R/R/bin/R CMD INSTALL StabMap StartedAt: 2025-02-03 21:14:59 -0000 (Mon, 03 Feb 2025) EndedAt: 2025-02-03 21:15:23 -0000 (Mon, 03 Feb 2025) EllapsedTime: 24.6 seconds RetCode: 0 Status: OK