Package: StabMap Version: 1.2.0 Command: /home/biocbuild/bbs-3.21-bioc/R/bin/R CMD build --keep-empty-dirs --no-resave-data StabMap StartedAt: 2025-10-15 20:10:26 -0400 (Wed, 15 Oct 2025) EndedAt: 2025-10-15 20:16:08 -0400 (Wed, 15 Oct 2025) EllapsedTime: 342.4 seconds RetCode: 0 Status: OK PackageFile: StabMap_1.2.0.tar.gz PackageFileSize: 1.911 MiB