Package: SpotSweeper Version: 1.2.0 Command: /Library/Frameworks/R.framework/Resources/bin/R CMD check --install=check:SpotSweeper.install-out.txt --library=/Library/Frameworks/R.framework/Resources/library --no-vignettes --timings SpotSweeper_1.2.0.tar.gz StartedAt: 2024-11-20 03:03:23 -0500 (Wed, 20 Nov 2024) EndedAt: 2024-11-20 03:13:12 -0500 (Wed, 20 Nov 2024) EllapsedTime: 588.6 seconds RetCode: 0 Status: OK CheckDir: SpotSweeper.Rcheck Warnings: 0