Package: SpotSweeper Version: 1.4.0 Command: /Library/Frameworks/R.framework/Resources/bin/R CMD build --keep-empty-dirs --no-resave-data SpotSweeper StartedAt: 2025-04-21 18:36:21 -0400 (Mon, 21 Apr 2025) EndedAt: 2025-04-21 18:38:58 -0400 (Mon, 21 Apr 2025) EllapsedTime: 157.6 seconds RetCode: 0 Status: OK PackageFile: SpotSweeper_1.4.0.tar.gz PackageFileSize: 3.801 MiB