Package: SpotSweeper Version: 1.4.0 Command: /Library/Frameworks/R.framework/Resources/bin/R CMD INSTALL SpotSweeper StartedAt: 2025-05-15 16:27:04 -0400 (Thu, 15 May 2025) EndedAt: 2025-05-15 16:27:48 -0400 (Thu, 15 May 2025) EllapsedTime: 44.0 seconds RetCode: 0 Status: OK