Package: SplineDV Version: 1.2.0 Command: /home/biocbuild/bbs-3.22-bioc/R/bin/R CMD INSTALL SplineDV StartedAt: 2025-11-16 15:34:11 -0500 (Sun, 16 Nov 2025) EndedAt: 2025-11-16 15:34:39 -0500 (Sun, 16 Nov 2025) EllapsedTime: 28.0 seconds RetCode: 0 Status: OK