Package: SplicingFactory Version: 1.16.0 Command: /home/biocbuild/bbs-3.21-bioc/R/bin/R CMD INSTALL SplicingFactory StartedAt: 2025-10-08 15:22:01 -0400 (Wed, 08 Oct 2025) EndedAt: 2025-10-08 15:22:21 -0400 (Wed, 08 Oct 2025) EllapsedTime: 20.3 seconds RetCode: 0 Status: OK