Package: SplicingFactory Version: 1.16.0 Command: /home/biocbuild/bbs-3.21-bioc/R/bin/R CMD build --keep-empty-dirs --no-resave-data SplicingFactory StartedAt: 2025-10-08 20:04:44 -0400 (Wed, 08 Oct 2025) EndedAt: 2025-10-08 20:05:18 -0400 (Wed, 08 Oct 2025) EllapsedTime: 34.0 seconds RetCode: 0 Status: OK PackageFile: SplicingFactory_1.16.0.tar.gz PackageFileSize: 755 KiB