Package: SpectriPy Version: 1.0.0 Command: /home/biocbuild/R/R/bin/R CMD INSTALL SpectriPy StartedAt: 2025-11-20 22:03:12 -0000 (Thu, 20 Nov 2025) EndedAt: 2025-11-20 22:03:57 -0000 (Thu, 20 Nov 2025) EllapsedTime: 44.4 seconds RetCode: 0 Status: OK