Package: SpectriPy Version: 1.0.0 Command: /home/biocbuild/R/R/bin/R CMD build --keep-empty-dirs --no-resave-data SpectriPy StartedAt: 2025-11-21 06:09:46 -0000 (Fri, 21 Nov 2025) EndedAt: 2025-11-21 06:19:30 -0000 (Fri, 21 Nov 2025) EllapsedTime: 584.2 seconds RetCode: 0 Status: OK PackageFile: SpectriPy_1.0.0.tar.gz PackageFileSize: 883.2 KiB