Package: SpectriPy Version: 1.0.0 Command: /home/biocbuild/bbs-3.22-bioc/R/bin/R CMD check --install=check:SpectriPy.install-out.txt --library=/home/biocbuild/bbs-3.22-bioc/R/site-library --timings SpectriPy_1.0.0.tar.gz StartedAt: 2025-11-21 05:00:45 -0500 (Fri, 21 Nov 2025) EndedAt: 2025-11-21 05:13:48 -0500 (Fri, 21 Nov 2025) EllapsedTime: 782.7 seconds RetCode: 0 Status: OK CheckDir: SpectriPy.Rcheck Warnings: 0