Package: SpectriPy Version: 1.0.0 Command: /Library/Frameworks/R.framework/Resources/bin/R CMD build --keep-empty-dirs --no-resave-data SpectriPy StartedAt: 2025-11-21 00:05:54 -0500 (Fri, 21 Nov 2025) EndedAt: 2025-11-21 00:06:31 -0500 (Fri, 21 Nov 2025) EllapsedTime: 37.5 seconds RetCode: 1 Status: ERROR PackageFile: None PackageFileSize: NA