Package: SpectriPy Version: 1.0.0 Command: /Library/Frameworks/R.framework/Resources/bin/R CMD INSTALL SpectriPy StartedAt: 2025-11-03 15:21:31 -0500 (Mon, 03 Nov 2025) EndedAt: 2025-11-03 15:22:23 -0500 (Mon, 03 Nov 2025) EllapsedTime: 51.6 seconds RetCode: 0 Status: OK