Package: SpectriPy Version: 1.0.0 Command: /Library/Frameworks/R.framework/Resources/bin/R CMD build --keep-empty-dirs --no-resave-data SpectriPy StartedAt: 2025-11-03 18:55:33 -0500 (Mon, 03 Nov 2025) EndedAt: 2025-11-03 18:58:34 -0500 (Mon, 03 Nov 2025) EllapsedTime: 181.3 seconds RetCode: 0 Status: OK PackageFile: SpectriPy_1.0.0.tar.gz PackageFileSize: 1002 KiB