Package: SpectriPy Version: 1.0.0 Command: rm -rf SpectriPy.buildbin-libdir && mkdir SpectriPy.buildbin-libdir && /Users/biocbuild/BBS/utils/build-universal.sh SpectriPy_1.0.0.tar.gz /Library/Frameworks/R.framework/Resources/bin/R SpectriPy.buildbin-libdir StartedAt: 2025-11-04 02:06:25 -0500 (Tue, 04 Nov 2025) EndedAt: 2025-11-04 02:07:26 -0500 (Tue, 04 Nov 2025) EllapsedTime: 61.3 seconds RetCode: 0 Status: OK PackageFile: SpectriPy_1.0.0.tgz PackageFileSize: 1.078 MiB