Package: SpectriPy Version: 1.0.0 Command: /Library/Frameworks/R.framework/Resources/bin/R CMD INSTALL SpectriPy StartedAt: 2025-11-04 15:10:23 -0500 (Tue, 04 Nov 2025) EndedAt: 2025-11-04 15:10:31 -0500 (Tue, 04 Nov 2025) EllapsedTime: 8.2 seconds RetCode: 1 Status: ERROR