Package: SpectriPy Version: 1.0.0 Command: /Library/Frameworks/R.framework/Resources/bin/R CMD INSTALL SpectriPy StartedAt: 2025-11-20 16:46:42 -0500 (Thu, 20 Nov 2025) EndedAt: 2025-11-20 16:46:56 -0500 (Thu, 20 Nov 2025) EllapsedTime: 14.4 seconds RetCode: 1 Status: ERROR