Package: SpectriPy Version: 1.0.0 Maintainer: Johannes Rainer MaintainerEmail: Johannes.Rainer at eurac.edu git_url: https://git.bioconductor.org/packages/SpectriPy git_branch: RELEASE_3_22 git_last_commit: 017658a git_last_commit_date: 2025-10-29 11:36:52 -0500 (Wed, 29 Oct 2025)