Package: SpectraQL Version: 1.2.0 Command: /Library/Frameworks/R.framework/Resources/bin/R CMD build --keep-empty-dirs --no-resave-data SpectraQL StartedAt: 2025-05-08 22:39:40 -0400 (Thu, 08 May 2025) EndedAt: 2025-05-08 22:40:26 -0400 (Thu, 08 May 2025) EllapsedTime: 46.3 seconds RetCode: 0 Status: OK PackageFile: SpectraQL_1.2.0.tar.gz PackageFileSize: 402.7 KiB