Package: SpectraQL Version: 1.2.0 Command: /Library/Frameworks/R.framework/Resources/bin/R CMD INSTALL SpectraQL StartedAt: 2025-04-21 15:07:31 -0400 (Mon, 21 Apr 2025) EndedAt: 2025-04-21 15:07:35 -0400 (Mon, 21 Apr 2025) EllapsedTime: 3.5 seconds RetCode: 0 Status: OK