Package: Spectra Version: 1.18.0 Command: /Library/Frameworks/R.framework/Resources/bin/R CMD check --install=check:Spectra.install-out.txt --library=/Library/Frameworks/R.framework/Resources/library --no-vignettes --timings Spectra_1.18.0.tar.gz StartedAt: 2025-04-21 23:47:15 -0400 (Mon, 21 Apr 2025) EndedAt: 2025-04-21 23:56:11 -0400 (Mon, 21 Apr 2025) EllapsedTime: 535.6 seconds RetCode: 0 Status: OK CheckDir: Spectra.Rcheck Warnings: 0