Package: Spectra Version: 1.18.0 Command: /home/biocbuild/R/R/bin/R CMD check --install=check:Spectra.install-out.txt --library=/home/biocbuild/R/R/site-library --no-vignettes --timings Spectra_1.18.0.tar.gz StartedAt: 2025-05-09 14:09:01 -0000 (Fri, 09 May 2025) EndedAt: 2025-05-09 14:19:58 -0000 (Fri, 09 May 2025) EllapsedTime: 656.7 seconds RetCode: 0 Status: OK CheckDir: Spectra.Rcheck Warnings: 0