Package: Spectra Version: 1.18.0 Command: /home/biocbuild/R/R/bin/R CMD build --keep-empty-dirs --no-resave-data Spectra StartedAt: 2025-05-09 04:42:12 -0000 (Fri, 09 May 2025) EndedAt: 2025-05-09 04:43:29 -0000 (Fri, 09 May 2025) EllapsedTime: 77.1 seconds RetCode: 0 Status: OK PackageFile: Spectra_1.18.0.tar.gz PackageFileSize: 1.705 MiB