Package: SpeCond Version: 1.60.0 Command: /home/biocbuild/R/R/bin/R CMD check --install=check:SpeCond.install-out.txt --library=/home/biocbuild/R/R/site-library --no-vignettes --timings SpeCond_1.60.0.tar.gz StartedAt: 2025-01-31 10:39:53 -0000 (Fri, 31 Jan 2025) EndedAt: 2025-01-31 10:41:42 -0000 (Fri, 31 Jan 2025) EllapsedTime: 109.1 seconds RetCode: 0 Status: OK CheckDir: SpeCond.Rcheck Warnings: 0