Package: SpeCond Version: 1.60.0 Command: /home/biocbuild/R/R/bin/R CMD build --keep-empty-dirs --no-resave-data SpeCond StartedAt: 2025-02-04 03:13:40 -0000 (Tue, 04 Feb 2025) EndedAt: 2025-02-04 03:14:53 -0000 (Tue, 04 Feb 2025) EllapsedTime: 73.1 seconds RetCode: 0 Status: OK PackageFile: SpeCond_1.60.0.tar.gz PackageFileSize: 1.697 MiB