Package: SpeCond Version: 1.60.0 Command: rm -rf SpeCond.buildbin-libdir && mkdir SpeCond.buildbin-libdir && F:\biocbuild\bbs-3.20-bioc\R\bin\R.exe CMD INSTALL --build --library=SpeCond.buildbin-libdir SpeCond_1.60.0.tar.gz StartedAt: 2025-01-31 09:41:56 -0500 (Fri, 31 Jan 2025) EndedAt: 2025-01-31 09:42:19 -0500 (Fri, 31 Jan 2025) EllapsedTime: 23.0 seconds RetCode: 0 Status: OK PackageFile: SpeCond_1.60.0.zip PackageFileSize: 1.198 MiB