Package: SpeCond Version: 1.60.0 Command: /home/biocbuild/bbs-3.20-bioc/R/bin/R CMD check --install=check:SpeCond.install-out.txt --library=/home/biocbuild/bbs-3.20-bioc/R/site-library --timings SpeCond_1.60.0.tar.gz StartedAt: 2025-01-31 02:35:50 -0500 (Fri, 31 Jan 2025) EndedAt: 2025-01-31 02:37:38 -0500 (Fri, 31 Jan 2025) EllapsedTime: 108.1 seconds RetCode: 0 Status: OK CheckDir: SpeCond.Rcheck Warnings: 0