Package: SpeCond Version: 1.60.0 Command: /home/biocbuild/R/R/bin/R CMD INSTALL SpeCond StartedAt: 2024-11-19 20:35:12 -0000 (Tue, 19 Nov 2024) EndedAt: 2024-11-19 20:35:25 -0000 (Tue, 19 Nov 2024) EllapsedTime: 13.5 seconds RetCode: 0 Status: OK