Package: SpeCond Version: 1.60.0 Command: /Library/Frameworks/R.framework/Resources/bin/R CMD INSTALL SpeCond StartedAt: 2025-01-30 15:36:16 -0500 (Thu, 30 Jan 2025) EndedAt: 2025-01-30 15:36:24 -0500 (Thu, 30 Jan 2025) EllapsedTime: 8.4 seconds RetCode: 0 Status: OK