Package: SpeCond Version: 1.60.0 Maintainer: Florence Cavalli MaintainerEmail: florence at ebi.ac.uk git_url: https://git.bioconductor.org/packages/SpeCond git_branch: RELEASE_3_20 git_last_commit: f57de9b git_last_commit_date: 2024-10-29 09:32:51 -0500 (Tue, 29 Oct 2024)