Package: SpatialOmicsOverlay Version: 1.6.0 Command: /home/biocbuild/R/R/bin/R CMD INSTALL SpatialOmicsOverlay StartedAt: 2025-02-03 20:57:31 -0000 (Mon, 03 Feb 2025) EndedAt: 2025-02-03 20:58:10 -0000 (Mon, 03 Feb 2025) EllapsedTime: 39.2 seconds RetCode: 0 Status: OK