Package: SpatialOmicsOverlay Version: 1.6.0 Command: /home/biocbuild/R/R/bin/R CMD build --keep-empty-dirs --no-resave-data SpatialOmicsOverlay StartedAt: 2025-02-04 03:12:55 -0000 (Tue, 04 Feb 2025) EndedAt: 2025-02-04 03:52:56 -0000 (Tue, 04 Feb 2025) EllapsedTime: 2400.6 seconds RetCode: None Status: TIMEOUT PackageFile: None PackageFileSize: NA