Package: SpatialOmicsOverlay Version: 1.6.0 Command: chmod a+r SpatialOmicsOverlay -R && F:\biocbuild\bbs-3.20-bioc\R\bin\R.exe CMD build --keep-empty-dirs --no-resave-data SpatialOmicsOverlay StartedAt: 2025-01-30 22:01:54 -0500 (Thu, 30 Jan 2025) EndedAt: 2025-01-30 22:13:12 -0500 (Thu, 30 Jan 2025) EllapsedTime: 677.4 seconds RetCode: 0 Status: OK PackageFile: SpatialOmicsOverlay_1.6.0.tar.gz PackageFileSize: 4.307 MiB