Package: SpatialOmicsOverlay Version: 1.6.0 Command: rm -rf SpatialOmicsOverlay.buildbin-libdir && mkdir SpatialOmicsOverlay.buildbin-libdir && F:\biocbuild\bbs-3.20-bioc\R\bin\R.exe CMD INSTALL --build --library=SpatialOmicsOverlay.buildbin-libdir SpatialOmicsOverlay_1.6.0.tar.gz StartedAt: 2025-01-31 09:41:39 -0500 (Fri, 31 Jan 2025) EndedAt: 2025-01-31 09:44:04 -0500 (Fri, 31 Jan 2025) EllapsedTime: 144.7 seconds RetCode: 0 Status: OK PackageFile: SpatialOmicsOverlay_1.6.0.zip PackageFileSize: 4.493 MiB