Package: SpatialOmicsOverlay Version: 1.6.0 Command: /home/biocbuild/bbs-3.20-bioc/R/bin/R CMD check --install=check:SpatialOmicsOverlay.install-out.txt --library=/home/biocbuild/bbs-3.20-bioc/R/site-library --timings SpatialOmicsOverlay_1.6.0.tar.gz StartedAt: 2025-02-04 02:44:29 -0500 (Tue, 04 Feb 2025) EndedAt: 2025-02-04 02:59:27 -0500 (Tue, 04 Feb 2025) EllapsedTime: 897.9 seconds RetCode: 0 Status: OK CheckDir: SpatialOmicsOverlay.Rcheck Warnings: 0