Package: SpatialOmicsOverlay Version: 1.6.0 Command: /Library/Frameworks/R.framework/Resources/bin/R CMD INSTALL SpatialOmicsOverlay StartedAt: 2025-02-03 16:06:06 -0500 (Mon, 03 Feb 2025) EndedAt: 2025-02-03 16:07:16 -0500 (Mon, 03 Feb 2025) EllapsedTime: 69.8 seconds RetCode: 0 Status: OK