Package: SpatialOmicsOverlay Version: 1.6.0 Command: /Library/Frameworks/R.framework/Resources/bin/R CMD check --install=check:SpatialOmicsOverlay.install-out.txt --library=/Library/Frameworks/R.framework/Resources/library --no-vignettes --timings SpatialOmicsOverlay_1.6.0.tar.gz StartedAt: 2025-01-31 10:28:01 -0500 (Fri, 31 Jan 2025) EndedAt: 2025-01-31 10:44:53 -0500 (Fri, 31 Jan 2025) EllapsedTime: 1012.5 seconds RetCode: 0 Status: OK CheckDir: SpatialOmicsOverlay.Rcheck Warnings: 0