############################################################################## ############################################################################## ### ### Running command: ### ### /Library/Frameworks/R.framework/Resources/bin/R CMD check --install=check:SpatialOmicsOverlay.install-out.txt --library=/Library/Frameworks/R.framework/Resources/library --no-vignettes --timings SpatialOmicsOverlay_1.6.0.tar.gz ### ############################################################################## ############################################################################## * using log directory ‘/Users/biocbuild/bbs-3.20-bioc/meat/SpatialOmicsOverlay.Rcheck’ * using R version 4.4.2 (2024-10-31) * using platform: x86_64-apple-darwin20 * R was compiled by Apple clang version 14.0.0 (clang-1400.0.29.202) GNU Fortran (GCC) 12.2.0 * running under: macOS Monterey 12.7.6 * using session charset: UTF-8 * using option ‘--no-vignettes’ * checking for file ‘SpatialOmicsOverlay/DESCRIPTION’ ... OK * this is package ‘SpatialOmicsOverlay’ version ‘1.6.0’ * package encoding: UTF-8 * checking package namespace information ... OK * checking package dependencies ... OK * checking if this is a source package ... OK * checking if there is a namespace ... OK * checking for hidden files and directories ... OK * checking for portable file names ... OK * checking for sufficient/correct file permissions ... OK * checking whether package ‘SpatialOmicsOverlay’ can be installed ... OK * checking installed package size ... OK * checking package directory ... OK * checking ‘build’ directory ... OK * checking DESCRIPTION meta-information ... NOTE License components which are templates and need '+ file LICENSE': MIT * checking top-level files ... NOTE File LICENSE is not mentioned in the DESCRIPTION file. * checking for left-over files ... OK * checking index information ... OK * checking package subdirectories ... OK * checking code files for non-ASCII characters ... OK * checking R files for syntax errors ... OK * checking whether the package can be loaded ... OK * checking whether the package can be loaded with stated dependencies ... OK * checking whether the package can be unloaded cleanly ... OK * checking whether the namespace can be loaded with stated dependencies ... OK * checking whether the namespace can be unloaded cleanly ... OK * checking dependencies in R code ... OK * checking S3 generic/method consistency ... OK * checking replacement functions ... OK * checking foreign function calls ... OK * checking R code for possible problems ... NOTE plotSpatialOverlay: no visible binding for global variable ‘xcoor’ plotSpatialOverlay: no visible binding for global variable ‘ycoor’ plotSpatialOverlay: no visible binding for global variable ‘sampleID’ plotSpatialOverlay: no visible binding for global variable ‘Target’ scaleBarPrinting: no visible binding for global variable ‘X’ scaleBarPrinting: no visible binding for global variable ‘Y’ Undefined global functions or variables: Target X Y sampleID xcoor ycoor * checking Rd files ... OK * checking Rd metadata ... OK * checking Rd cross-references ... OK * checking for missing documentation entries ... OK * checking for code/documentation mismatches ... OK * checking Rd \usage sections ... OK * checking Rd contents ... OK * checking for unstated dependencies in examples ... OK * checking files in ‘vignettes’ ... OK * checking examples ... OK Examples with CPU (user + system) or elapsed time > 5s user system elapsed add4ChannelImage 31.920 2.150 28.604 readSpatialOverlay 26.948 1.194 27.710 recolor 24.039 1.644 21.794 changeColoringIntensity 23.112 1.455 22.618 cropSamples 22.687 1.631 23.051 changeImageColoring 22.436 1.108 22.006 addImageOmeTiff 22.055 1.123 21.798 cropTissue 21.272 1.476 21.996 flipY 21.193 1.134 21.348 flipX 20.141 1.298 21.175 createMask 14.774 0.696 15.830 createCoordFile 8.879 0.099 9.030 parseScanMetadata 5.373 0.479 4.823 parseOverlayAttrs 5.274 0.390 5.255 xmlExtraction 4.634 0.402 4.818 * checking for unstated dependencies in ‘tests’ ... OK * checking tests ... Running ‘testthat.R’ OK * checking for unstated dependencies in vignettes ... OK * checking package vignettes ... OK * checking running R code from vignettes ... SKIPPED * checking re-building of vignette outputs ... SKIPPED * checking PDF version of manual ... OK * DONE Status: 3 NOTEs See ‘/Users/biocbuild/bbs-3.20-bioc/meat/SpatialOmicsOverlay.Rcheck/00check.log’ for details.