Package: SpatialOmicsOverlay Version: 1.6.0 Command: /Library/Frameworks/R.framework/Resources/bin/R CMD build --keep-empty-dirs --no-resave-data SpatialOmicsOverlay StartedAt: 2025-02-03 22:32:45 -0500 (Mon, 03 Feb 2025) EndedAt: 2025-02-03 22:51:54 -0500 (Mon, 03 Feb 2025) EllapsedTime: 1149.6 seconds RetCode: 0 Status: OK PackageFile: SpatialOmicsOverlay_1.6.0.tar.gz PackageFileSize: 4.497 MiB