Package: SpatialOmicsOverlay Version: 1.6.0 Command: rm -rf SpatialOmicsOverlay.buildbin-libdir && mkdir SpatialOmicsOverlay.buildbin-libdir && /Users/biocbuild/BBS/utils/build-universal.sh SpatialOmicsOverlay_1.6.0.tar.gz /Library/Frameworks/R.framework/Resources/bin/R SpatialOmicsOverlay.buildbin-libdir StartedAt: 2025-01-31 13:46:09 -0500 (Fri, 31 Jan 2025) EndedAt: 2025-01-31 13:47:23 -0500 (Fri, 31 Jan 2025) EllapsedTime: 73.7 seconds RetCode: 0 Status: OK PackageFile: SpatialOmicsOverlay_1.6.0.tgz PackageFileSize: 4.672 MiB