Package: SpatialOmicsOverlay Version: 1.8.0 Command: /home/biocbuild/R/R/bin/R CMD INSTALL SpatialOmicsOverlay StartedAt: 2025-04-21 20:28:39 -0000 (Mon, 21 Apr 2025) EndedAt: 2025-04-21 20:29:24 -0000 (Mon, 21 Apr 2025) EllapsedTime: 45.1 seconds RetCode: 0 Status: OK