Package: SpatialOmicsOverlay Version: 1.8.0 Command: /home/biocbuild/R/R/bin/R CMD build --keep-empty-dirs --no-resave-data SpatialOmicsOverlay StartedAt: 2025-04-22 04:46:32 -0000 (Tue, 22 Apr 2025) EndedAt: 2025-04-22 05:26:33 -0000 (Tue, 22 Apr 2025) EllapsedTime: 2400.8 seconds RetCode: None Status: TIMEOUT PackageFile: None PackageFileSize: NA