Package: SpatialOmicsOverlay Version: 1.8.0 Command: /Library/Frameworks/R.framework/Resources/bin/R CMD INSTALL SpatialOmicsOverlay StartedAt: 2025-04-21 15:08:14 -0400 (Mon, 21 Apr 2025) EndedAt: 2025-04-21 15:08:27 -0400 (Mon, 21 Apr 2025) EllapsedTime: 13.0 seconds RetCode: 0 Status: OK