Package: SpatialOmicsOverlay Version: 1.6.0 Command: /Library/Frameworks/R.framework/Resources/bin/R CMD INSTALL SpatialOmicsOverlay StartedAt: 2025-01-30 16:53:41 -0500 (Thu, 30 Jan 2025) EndedAt: 2025-01-30 16:54:17 -0500 (Thu, 30 Jan 2025) EllapsedTime: 35.9 seconds RetCode: 0 Status: OK